BEGIN:VCALENDAR
VERSION:2.0
PRODID:-//Campus LEAN - ECPv6.13.2.1//NONSGML v1.0//EN
CALSCALE:GREGORIAN
METHOD:PUBLISH
X-WR-CALNAME:Campus LEAN
X-ORIGINAL-URL:https://campuslean.gumstaging.fr
X-WR-CALDESC:Évènements pour Campus LEAN
REFRESH-INTERVAL;VALUE=DURATION:PT1H
X-Robots-Tag:noindex
X-PUBLISHED-TTL:PT1H
BEGIN:VTIMEZONE
TZID:America/Halifax
BEGIN:DAYLIGHT
TZOFFSETFROM:-0400
TZOFFSETTO:-0300
TZNAME:ADT
DTSTART:20250309T060000
END:DAYLIGHT
BEGIN:STANDARD
TZOFFSETFROM:-0300
TZOFFSETTO:-0400
TZNAME:AST
DTSTART:20251102T050000
END:STANDARD
END:VTIMEZONE
BEGIN:VTIMEZONE
TZID:America/Toronto
BEGIN:DAYLIGHT
TZOFFSETFROM:-0500
TZOFFSETTO:-0400
TZNAME:EDT
DTSTART:20250309T070000
END:DAYLIGHT
BEGIN:STANDARD
TZOFFSETFROM:-0400
TZOFFSETTO:-0500
TZNAME:EST
DTSTART:20251102T060000
END:STANDARD
END:VTIMEZONE
BEGIN:VEVENT
DTSTART;TZID=America/Halifax:20251231T130000
DTEND;TZID=America/Halifax:20251231T160000
DTSTAMP:20260419T091537
CREATED:20230517T194443Z
LAST-MODIFIED:20240926T142441Z
UID:10000020-1767186000-1767196800@campuslean.gumstaging.fr
SUMMARY:Méthode 5S
DESCRIPTION:Éléments clés :\n\nIndispensable pour connaître les 5S et comprendre la méthode.\nEssentiel pour l’appliquer avec succès dans votre organisation.\n\nDétails :\nAprès avoir réalisé un 5S\, les lieux de travail sont mieux organisés; les outils et documents sont rangés dans des endroits bien définis. Le travail devient plus facile et les problèmes sont plus rapides à découvrir ! \nLe 5S est une stratégie d’amélioration reposant sur cinq principes simples : \n1- S’organiser (supprimer ce qui est inutile)\,\n2- Situer (chaque chose utile à sa place)\,\n3- Scintiller de propreté (pour éviter les problèmes)\,\n4- Standardiser (chacun sait ce qu’il faut faire)\n5- Suivre (on s’améliore régulièrement). \nDécouvrez comment appliquer le message : « Si vous faites quelque chose\, alors\, pensez-y bien\, planifiez le bien et faites le correctement. » \nAucune expérience n’est nécessaire pour mettre en pratique cette stratégie qui est souvent considérée comme une base en amélioration continue. \nObjectifs :\n\n\nBien cerner votre problème\nLe 5S peut s’appliquer dans votre organisation\nÉviter les exagérations\nAppliquer des règles simples\nChacun des 5S est important\nLe mettre en application\nEn faire le suivi et en tirer un maximum de bénéfices
URL:https://campuslean.gumstaging.fr/formation/methode-5s/
LOCATION:En ligne
CATEGORIES:Outils et pratiques LEAN
ATTACH;FMTTYPE=image/jpeg:https://campuslean.gumstaging.fr/wp-content/uploads/2023/05/Campus-lean-formation-Methode-5S.jpg
END:VEVENT
BEGIN:VEVENT
DTSTART;TZID=America/Toronto:20250520T130000
DTEND;TZID=America/Toronto:20250520T163000
DTSTAMP:20260419T091537
CREATED:20250404T123922Z
LAST-MODIFIED:20250428T163206Z
UID:10000106-1747746000-1747758600@campuslean.gumstaging.fr
SUMMARY:Ceinture verte LEAN Six Sigma : SERVICES PUBLICS - Débute le 20 mai 2025
DESCRIPTION:Clientèle cible\nCe programme de formation est conçu pour les professionnels désireux d’acquérir les compétences nécessaires pour piloter des projets d’amélioration continue et optimiser les processus au sein de leur organisation. Il s’adresse également aux gestionnaires souhaitant instaurer une culture d’amélioration continue au sein de leur équipe. \nPréalable\nCeinture blanche ou jaune\, un atout. \nDescription\n\nAu cours de cette formation\, vous découvrirez les concepts clés du LEAN et maîtriserez la démarche DMAIC (Définir\, Mesurer\, Analyser\, Innover et Contrôler). Vous apprendrez à identifier les problèmes et à structurer vos projets\, à collecter et analyser des données pour comprendre la situation actuelle\, à trouver les causes profondes des dysfonctionnements\, à proposer des solutions innovantes et enfin\, à pérenniser les améliorations en impliquant les équipes et en établissant des standards clairs pour assurer la durabilité des résultats. \nEn complément de la méthode DMAIC\, vous découvrirez des approches essentielles telles que la méthodologie Kaizen pour l’optimisation continue\, les principes du Six Sigma pour réduire la variation des processus\, ainsi que des stratégies efficaces de gestion du changement pour assurer l’adhésion des parties prenantes et garantir le succès des projets. \nCette formation est offerte en ligne\, en mode synchrone. Notre formateur fera un exposé de type magistral (PowerPoint) pour présenter les notions théoriques. Plusieurs techniques d’animation seront utilisées pour une formation dynamique et participative : remue-méninges\, études de cas\, discussion\, projet\, exposé et exercices pratiques. Le programme de certification Ceinture verte LEAN Six Sigma inclut 7h de coaching personnalisé pour perfectionner l’application des concepts et consolider vos connaissances. \nCe programme implique la réussite d’un examen théorique\, la réalisation d’un projet d’optimisation en milieu de travail et la présentation de ce projet à notre comité évaluateur. Une certification sera remise aux participants confirmant l’atteinte du niveau Ceinture verte – LEAN Six Sigma. \nObjectifs\nLe programme de certification Ceinture verte LEAN Six Sigma vise à vous transmettre les connaissances nécessaires pour jouer un rôle déterminant dans l’amélioration continue de votre organisation. À l’issue de cette formation\, vous maitriserez la démarche DMAIC\, une méthode structurée qui vous permettra d’identifier et d’éliminer les gaspillages\, de résoudre les problèmes à leur source et d’instaurer des solutions durables. \n\n\nVous développerez des compétences précieuses pour analyser vos processus\, appliquer les principes de la gestion du changement et mobiliser votre équipe autour d’une culture d’excellence. Certifié\, vous serez prêt à transformer votre milieu professionnel grâce à des projets d’amélioration continue réussis ! \nTéléchargez le plan de cours (.PDF)
URL:https://campuslean.gumstaging.fr/formation/ceinture-verte-lean-six-sigma-2/
LOCATION:En ligne
CATEGORIES:Certification LEAN
ATTACH;FMTTYPE=image/jpeg:https://campuslean.gumstaging.fr/wp-content/uploads/2025/04/Campus-lean-ceinture-Verte-edition-speciale.jpg
END:VEVENT
END:VCALENDAR